BEGIN:VCALENDAR
VERSION:2.0
PRODID:icalendar-ruby
CALSCALE:GREGORIAN
METHOD:PUBLISH
BEGIN:VEVENT
DTSTAMP:20260423T212955Z
UID:9-33705@unityfort.tithelysetup4.com
DTSTART:20261101T190000Z
DTEND:20261101T200000Z
CLASS:PUBLIC
CREATED:20260423T143046
DESCRIPTION:
LAST-MODIFIED:20260423T143046
LOCATION:Sanctuary
SUMMARY:Sunday Service
URL;VALUE=URI:https://unityfort.tithelysetup4.com/events/sunday-service/202
 6-11-01
END:VEVENT
END:VCALENDAR
