BEGIN:VCALENDAR
VERSION:2.0
PRODID:icalendar-ruby
CALSCALE:GREGORIAN
METHOD:PUBLISH
BEGIN:VEVENT
DTSTAMP:20260423T182318Z
UID:9-33652@unityfort.tithelysetup4.com
DTSTART:20261018T180000Z
DTEND:20261018T190000Z
CLASS:PUBLIC
CREATED:20260423T113343
DESCRIPTION:
LAST-MODIFIED:20260423T113343
LOCATION:Sanctuary
SUMMARY:Sunday Service
URL;VALUE=URI:https://unityfort.tithelysetup4.com/events/sunday-service/202
 6-10-18
END:VEVENT
END:VCALENDAR
