BEGIN:VCALENDAR
VERSION:2.0
PRODID:icalendar-ruby
CALSCALE:GREGORIAN
METHOD:PUBLISH
BEGIN:VEVENT
DTSTAMP:20260423T141642Z
UID:9-33598@unityfort.tithelysetup4.com
DTSTART:20260927T180000Z
DTEND:20260927T190000Z
CLASS:PUBLIC
CREATED:20260423T084035
DESCRIPTION:
LAST-MODIFIED:20260423T084035
LOCATION:Sanctuary
SUMMARY:Sunday Service
URL;VALUE=URI:https://unityfort.tithelysetup4.com/events/sunday-service/202
 6-09-27
END:VEVENT
END:VCALENDAR
