BEGIN:VCALENDAR
VERSION:2.0
PRODID:icalendar-ruby
CALSCALE:GREGORIAN
METHOD:PUBLISH
BEGIN:VEVENT
DTSTAMP:20260423T014957Z
UID:9-33495@unityfort.tithelysetup4.com
DTSTART:20260920T180000Z
DTEND:20260920T190000Z
CLASS:PUBLIC
CREATED:20260422T201611
DESCRIPTION:
LAST-MODIFIED:20260422T201611
LOCATION:Sanctuary
SUMMARY:Sunday Service
URL;VALUE=URI:https://unityfort.tithelysetup4.com/events/sunday-service/202
 6-09-20
END:VEVENT
END:VCALENDAR
